BEGIN:VCALENDAR
VERSION:2.0
PRODID:-//Kempenfelt Community Players - ECPv6.15.17.1//NONSGML v1.0//EN
CALSCALE:GREGORIAN
METHOD:PUBLISH
X-WR-CALNAME:Kempenfelt Community Players
X-ORIGINAL-URL:https://kempenfeltplayers.com
X-WR-CALDESC:Events for Kempenfelt Community Players
REFRESH-INTERVAL;VALUE=DURATION:PT1H
X-Robots-Tag:noindex
X-PUBLISHED-TTL:PT1H
BEGIN:VTIMEZONE
TZID:America/Toronto
BEGIN:DAYLIGHT
TZOFFSETFROM:-0500
TZOFFSETTO:-0400
TZNAME:EDT
DTSTART:20170312T070000
END:DAYLIGHT
BEGIN:STANDARD
TZOFFSETFROM:-0400
TZOFFSETTO:-0500
TZNAME:EST
DTSTART:20171105T060000
END:STANDARD
BEGIN:DAYLIGHT
TZOFFSETFROM:-0500
TZOFFSETTO:-0400
TZNAME:EDT
DTSTART:20180311T070000
END:DAYLIGHT
BEGIN:STANDARD
TZOFFSETFROM:-0400
TZOFFSETTO:-0500
TZNAME:EST
DTSTART:20181104T060000
END:STANDARD
BEGIN:DAYLIGHT
TZOFFSETFROM:-0500
TZOFFSETTO:-0400
TZNAME:EDT
DTSTART:20190310T070000
END:DAYLIGHT
BEGIN:STANDARD
TZOFFSETFROM:-0400
TZOFFSETTO:-0500
TZNAME:EST
DTSTART:20191103T060000
END:STANDARD
END:VTIMEZONE
BEGIN:VEVENT
DTSTART;TZID=America/Toronto:20181109T190000
DTEND;TZID=America/Toronto:20181111T140000
DTSTAMP:20260421T125222
CREATED:20181101T103403Z
LAST-MODIFIED:20181108T040446Z
UID:113762-1541790000-1541944800@kempenfeltplayers.com
SUMMARY:Aladdin Jr.
DESCRIPTION:Performances of Aladdin Jr. at Georgian College. \nFri. Nov. 9 @ 7PM\, Sat. Nov. 10 @ 2PM & 7PM\, Sun. Nov. 11 @ 2PM \nTicket information available HERE!.
URL:https://kempenfeltplayers.com/event/aladdin-jr-2/
LOCATION:Georgian Theatre\, 1 Georgian Drive\, Barrie\, Ontario\, L4M 4H0\, Canada
CATEGORIES:Performances
ATTACH;FMTTYPE=image/png:https://kempenfeltplayers.com/wp-content/uploads/2018/04/Site_Thumbnail.png
END:VEVENT
END:VCALENDAR