BEGIN:VCALENDAR
VERSION:2.0
PRODID:-//Kempenfelt Community Players - ECPv6.15.17.1//NONSGML v1.0//EN
CALSCALE:GREGORIAN
METHOD:PUBLISH
X-ORIGINAL-URL:https://kempenfeltplayers.com
X-WR-CALDESC:Events for Kempenfelt Community Players
REFRESH-INTERVAL;VALUE=DURATION:PT1H
X-Robots-Tag:noindex
X-PUBLISHED-TTL:PT1H
BEGIN:VTIMEZONE
TZID:America/Toronto
BEGIN:DAYLIGHT
TZOFFSETFROM:-0500
TZOFFSETTO:-0400
TZNAME:EDT
DTSTART:20160313T070000
END:DAYLIGHT
BEGIN:STANDARD
TZOFFSETFROM:-0400
TZOFFSETTO:-0500
TZNAME:EST
DTSTART:20161106T060000
END:STANDARD
BEGIN:DAYLIGHT
TZOFFSETFROM:-0500
TZOFFSETTO:-0400
TZNAME:EDT
DTSTART:20170312T070000
END:DAYLIGHT
BEGIN:STANDARD
TZOFFSETFROM:-0400
TZOFFSETTO:-0500
TZNAME:EST
DTSTART:20171105T060000
END:STANDARD
BEGIN:DAYLIGHT
TZOFFSETFROM:-0500
TZOFFSETTO:-0400
TZNAME:EDT
DTSTART:20180311T070000
END:DAYLIGHT
BEGIN:STANDARD
TZOFFSETFROM:-0400
TZOFFSETTO:-0500
TZNAME:EST
DTSTART:20181104T060000
END:STANDARD
END:VTIMEZONE
BEGIN:VEVENT
DTSTART;TZID=America/Toronto:20170502T200000
DTEND;TZID=America/Toronto:20170502T223000
DTSTAMP:20260422T182514
CREATED:20170129T203816Z
LAST-MODIFIED:20170129T214847Z
UID:5674-1493755200-1493764200@kempenfeltplayers.com
SUMMARY:A Step in Time - KCP's 40th Anniversary
DESCRIPTION:KCP Celebrates 40 Years of Musical Theatre in Barrie\n“A Step in Time”\nCelebrate the 40-year history of Kempenfelt Community Players. Presented May 2017 at the Ferndale Banquet Hall. A musical revue featuring great themes\, comedy\, solos and ensemble numbers. Musical selections are from a wide variety of musicals that are part of KCP’s 40-year history. A performance featuring a talented cast of 26 adults and 8 youth\, accompanied by a live 4-piece band. Presented at the Ferndale Banquet Hall with cabaret-style reserved seating and a cash bar. \nMusical Revue\nThis performance will feature selections from many musicals including: My Fair Lady\, Spamalot\, 9 to 5\, Cinderella\, The Full Monty\, Mary Poppins\, Beauty and the Beast\, Honk Jr.\, and much\, much more! \nKCP’s 40th Anniversary\nKempenfelt Community Players was established in 1977 as the Teachers Performance Workshop. It’s goal was to assist educators in the art of producing a musical production. Since then\, KCP has expanded to perform a season of 3 shows\, including a Youth Production. Participants learn the skills of working in stage management\, set design\, costuming and many other production team roles. \nSpecial Group Rates \nThis performance is presented for Corporate\, Business and Organization booking. Special group prices are available. Please contact Ferndale Banquet Hall.
URL:https://kempenfeltplayers.com/event/a-step-in-time-kcps-40th-anniversary/
LOCATION:Ferndale Banquet Hall\, 24 Ferndale Industrial Dr\, Barrie\, Ontario\, L4N 9V6\, Canada
CATEGORIES:Performances
ATTACH;FMTTYPE=image/png:https://kempenfeltplayers.com/wp-content/uploads/2016/12/web_small-01.png
END:VEVENT
BEGIN:VEVENT
DTSTART;TZID=America/Toronto:20170503T200000
DTEND;TZID=America/Toronto:20170503T223000
DTSTAMP:20260422T182514
CREATED:20170129T215858Z
LAST-MODIFIED:20170304T153430Z
UID:5690-1493841600-1493850600@kempenfeltplayers.com
SUMMARY:A Step in Time - KCP's 40th Anniversary
DESCRIPTION:KCP Celebrates 40 Years of Musical Theatre in Barrie\n“A Step in Time”\nCelebrate the 40-year history of Kempenfelt Community Players. Presented May 2017 at the Ferndale Banquet Hall. A musical revue featuring great themes\, comedy\, solos and ensemble numbers. Musical selections are from a wide variety of musicals that are part of KCP’s 40-year history. A performance featuring a talented cast of 26 adults and 8 youth\, accompanied by a live 4-piece band. Presented at the Ferndale Banquet Hall with cabaret-style reserved seating and a cash bar. \nMusical Revue\nThis performance will feature selections from many musicals including: My Fair Lady\, Spamalot\, 9 to 5\, Cinderella\, The Full Monty\, Mary Poppins\, Beauty and the Beast\, Honk Jr.\, and much\, much more! \nKCP’s 40th Anniversary\nKempenfelt Community Players was established in 1977 as the Teachers Performance Workshop. It’s goal was to assist educators in the art of producing a musical production. Since then\, KCP has expanded to perform a season of 3 shows\, including a Youth Production. Participants learn the skills of working in stage management\, set design\, costuming and many other production team roles. \nSpecial Group Rates\nThis performance is presented for Corporate\, Business and Organization booking. Special group prices are available. Please contact Ferndale Banquet Hall.
URL:https://kempenfeltplayers.com/event/a-step-in-time-kcps-40th-anniversary-2/
LOCATION:Ferndale Banquet Hall\, 24 Ferndale Industrial Dr\, Barrie\, Ontario\, L4N 9V6\, Canada
CATEGORIES:Performances
ATTACH;FMTTYPE=image/png:https://kempenfeltplayers.com/wp-content/uploads/2016/12/web_small-01.png
END:VEVENT
BEGIN:VEVENT
DTSTART;TZID=America/Toronto:20170504T200000
DTEND;TZID=America/Toronto:20170504T200000
DTSTAMP:20260422T182514
CREATED:20170304T183329Z
LAST-MODIFIED:20170304T184312Z
UID:15772-1493928000-1493928000@kempenfeltplayers.com
SUMMARY:A Step in Time - KCP's 40th Anniversary
DESCRIPTION:KCP Celebrates 40 Years of Musical Theatre in Barrie\n“A Step in Time”\nCelebrate the 40-year history of Kempenfelt Community Players. Presented May 2017 at the Ferndale Banquet Hall. A musical revue featuring great themes\, comedy\, solos and ensemble numbers. Musical selections are from a wide variety of musicals that are part of KCP’s 40-year history. A performance featuring a talented cast of 26 adults and 8 youth\, accompanied by a live 4-piece band. Presented at the Ferndale Banquet Hall with cabaret-style reserved seating and a cash bar. \nMusical Revue\nThis performance will feature selections from many musicals including: My Fair Lady\, Spamalot\, 9 to 5\, Cinderella\, The Full Monty\, Mary Poppins\, Beauty and the Beast\, Honk Jr.\, and much\, much more! \nKCP’s 40th Anniversary\nKempenfelt Community Players was established in 1977 as the Teachers Performance Workshop. It’s goal was to assist educators in the art of producing a musical production. Since then\, KCP has expanded to perform a season of 3 shows\, including a Youth Production. Participants learn the skills of working in stage management\, set design\, costuming and many other production team roles. \nSpecial Group Rates\nThis performance is presented for Corporate\, Business and Organization booking. Special group prices are available. Please contact Ferndale Banquet Hall.
URL:https://kempenfeltplayers.com/event/step-time-kcps-40th-anniversary/
LOCATION:Ferndale Banquet Hall\, 24 Ferndale Industrial Dr\, Barrie\, Ontario\, L4N 9V6\, Canada
CATEGORIES:Performances
ATTACH;FMTTYPE=image/png:https://kempenfeltplayers.com/wp-content/uploads/2016/12/web_small-01.png
END:VEVENT
BEGIN:VEVENT
DTSTART;TZID=America/Toronto:20170505T200000
DTEND;TZID=America/Toronto:20170505T200000
DTSTAMP:20260422T182514
CREATED:20170304T184751Z
LAST-MODIFIED:20170304T184838Z
UID:15781-1494014400-1494014400@kempenfeltplayers.com
SUMMARY:A Step in Time - KCP's 40th Anniversary
DESCRIPTION:KCP Celebrates 40 Years of Musical Theatre in Barrie\n“A Step in Time”\nCelebrate the 40-year history of Kempenfelt Community Players. Presented May 2017 at the Ferndale Banquet Hall. A musical revue featuring great themes\, comedy\, solos and ensemble numbers. Musical selections are from a wide variety of musicals that are part of KCP’s 40-year history. A performance featuring a talented cast of 26 adults and 8 youth\, accompanied by a live 4-piece band. Presented at the Ferndale Banquet Hall with cabaret-style reserved seating and a cash bar. \nMusical Revue\nThis performance will feature selections from many musicals including: My Fair Lady\, Spamalot\, 9 to 5\, Cinderella\, The Full Monty\, Mary Poppins\, Beauty and the Beast\, Honk Jr.\, and much\, much more! \nKCP’s 40th Anniversary\nKempenfelt Community Players was established in 1977 as the Teachers Performance Workshop. It’s goal was to assist educators in the art of producing a musical production. Since then\, KCP has expanded to perform a season of 3 shows\, including a Youth Production. Participants learn the skills of working in stage management\, set design\, costuming and many other production team roles. \nSpecial Group Rates\nThis performance is presented for Corporate\, Business and Organization booking. Special group prices are available. Please contact Ferndale Banquet Hall.
URL:https://kempenfeltplayers.com/event/step-time-kcps-40th-anniversary-2/
LOCATION:Ferndale Banquet Hall\, 24 Ferndale Industrial Dr\, Barrie\, Ontario\, L4N 9V6\, Canada
CATEGORIES:Performances
ATTACH;FMTTYPE=image/png:https://kempenfeltplayers.com/wp-content/uploads/2016/12/web_small-01.png
END:VEVENT
BEGIN:VEVENT
DTSTART;TZID=America/Toronto:20170506T140000
DTEND;TZID=America/Toronto:20170506T140000
DTSTAMP:20260422T182514
CREATED:20170304T190209Z
LAST-MODIFIED:20170304T190209Z
UID:15789-1494079200-1494079200@kempenfeltplayers.com
SUMMARY:A Step in Time - KCP's 40th Anniversary
DESCRIPTION:KCP Celebrates 40 Years of Musical Theatre in Barrie\n“A Step in Time”\nCelebrate the 40-year history of Kempenfelt Community Players. Presented May 2017 at the Ferndale Banquet Hall. A musical revue featuring great themes\, comedy\, solos and ensemble numbers. Musical selections are from a wide variety of musicals that are part of KCP’s 40-year history. A performance featuring a talented cast of 26 adults and 8 youth\, accompanied by a live 4-piece band. Presented at the Ferndale Banquet Hall with cabaret-style reserved seating and a cash bar. \nMusical Revue\nThis performance will feature selections from many musicals including: My Fair Lady\, Spamalot\, 9 to 5\, Cinderella\, The Full Monty\, Mary Poppins\, Beauty and the Beast\, Honk Jr.\, and much\, much more! \nKCP’s 40th Anniversary\nKempenfelt Community Players was established in 1977 as the Teachers Performance Workshop. It’s goal was to assist educators in the art of producing a musical production. Since then\, KCP has expanded to perform a season of 3 shows\, including a Youth Production. Participants learn the skills of working in stage management\, set design\, costuming and many other production team roles. \nSpecial Group Rates\nThis performance is presented for Corporate\, Business and Organization booking. Special group prices are available. Please contact Ferndale Banquet Hall.
URL:https://kempenfeltplayers.com/event/step-time-kcps-40th-anniversary-4/
LOCATION:Ferndale Banquet Hall\, 24 Ferndale Industrial Dr\, Barrie\, Ontario\, L4N 9V6\, Canada
CATEGORIES:Performances
ATTACH;FMTTYPE=image/png:https://kempenfeltplayers.com/wp-content/uploads/2016/12/web_small-01.png
END:VEVENT
BEGIN:VEVENT
DTSTART;TZID=America/Toronto:20170506T200000
DTEND;TZID=America/Toronto:20170506T200000
DTSTAMP:20260422T182514
CREATED:20170304T185149Z
LAST-MODIFIED:20170304T185149Z
UID:15783-1494100800-1494100800@kempenfeltplayers.com
SUMMARY:A Step in Time - KCP's 40th Anniversary
DESCRIPTION:KCP Celebrates 40 Years of Musical Theatre in Barrie\n“A Step in Time”\nCelebrate the 40-year history of Kempenfelt Community Players. Presented May 2017 at the Ferndale Banquet Hall. A musical revue featuring great themes\, comedy\, solos and ensemble numbers. Musical selections are from a wide variety of musicals that are part of KCP’s 40-year history. A performance featuring a talented cast of 26 adults and 8 youth\, accompanied by a live 4-piece band. Presented at the Ferndale Banquet Hall with cabaret-style reserved seating and a cash bar. \nMusical Revue\nThis performance will feature selections from many musicals including: My Fair Lady\, Spamalot\, 9 to 5\, Cinderella\, The Full Monty\, Mary Poppins\, Beauty and the Beast\, Honk Jr.\, and much\, much more! \nKCP’s 40th Anniversary\nKempenfelt Community Players was established in 1977 as the Teachers Performance Workshop. It’s goal was to assist educators in the art of producing a musical production. Since then\, KCP has expanded to perform a season of 3 shows\, including a Youth Production. Participants learn the skills of working in stage management\, set design\, costuming and many other production team roles. \nSpecial Group Rates\nThis performance is presented for Corporate\, Business and Organization booking. Special group prices are available. Please contact Ferndale Banquet Hall.
URL:https://kempenfeltplayers.com/event/step-time-kcps-40th-anniversary-3/
LOCATION:Ferndale Banquet Hall\, 24 Ferndale Industrial Dr\, Barrie\, Ontario\, L4N 9V6\, Canada
CATEGORIES:Performances
ATTACH;FMTTYPE=image/png:https://kempenfeltplayers.com/wp-content/uploads/2016/12/web_small-01.png
END:VEVENT
BEGIN:VEVENT
DTSTART;TZID=America/Toronto:20170507T140000
DTEND;TZID=America/Toronto:20170507T140000
DTSTAMP:20260422T182514
CREATED:20170304T190400Z
LAST-MODIFIED:20170304T190438Z
UID:15792-1494165600-1494165600@kempenfeltplayers.com
SUMMARY:A Step in Time - KCP's 40th Anniversary
DESCRIPTION:KCP Celebrates 40 Years of Musical Theatre in Barrie\n“A Step in Time”\nCelebrate the 40-year history of Kempenfelt Community Players. Presented May 2017 at the Ferndale Banquet Hall. A musical revue featuring great themes\, comedy\, solos and ensemble numbers. Musical selections are from a wide variety of musicals that are part of KCP’s 40-year history. A performance featuring a talented cast of 26 adults and 8 youth\, accompanied by a live 4-piece band. Presented at the Ferndale Banquet Hall with cabaret-style reserved seating and a cash bar. \nMusical Revue\nThis performance will feature selections from many musicals including: My Fair Lady\, Spamalot\, 9 to 5\, Cinderella\, The Full Monty\, Mary Poppins\, Beauty and the Beast\, Honk Jr.\, and much\, much more! \nKCP’s 40th Anniversary\nKempenfelt Community Players was established in 1977 as the Teachers Performance Workshop. It’s goal was to assist educators in the art of producing a musical production. Since then\, KCP has expanded to perform a season of 3 shows\, including a Youth Production. Participants learn the skills of working in stage management\, set design\, costuming and many other production team roles. \nSpecial Group Rates\nThis performance is presented for Corporate\, Business and Organization booking. Special group prices are available. Please contact Ferndale Banquet Hall.
URL:https://kempenfeltplayers.com/event/step-time-kcps-40th-anniversary-5/
LOCATION:Ferndale Banquet Hall\, 24 Ferndale Industrial Dr\, Barrie\, Ontario\, L4N 9V6\, Canada
CATEGORIES:Performances
ATTACH;FMTTYPE=image/png:https://kempenfeltplayers.com/wp-content/uploads/2016/12/web_small-01.png
END:VEVENT
END:VCALENDAR